BEGIN:VCALENDAR
PRODID:NingEventWidget-v1
VERSION:2.0
METHOD:PUBLISH
BEGIN:VTIMEZONE
TZID:Pacific/Midway
X-LIC-LOCATION:Pacific/Midway
BEGIN:STANDARD
TZOFFSETFROM:-1100
TZOFFSETTO:-1100
TZNAME:SST
DTSTART:19700101T000000
END:STANDARD
END:VTIMEZONE
BEGIN:VEVENT
UID:5072275:Event:1098349
DTSTAMP:20260420T055528Z
SUMMARY:Southeast Nostalgia Drag Racing \"Nostalgia Invitational Drags
 \", Gassers, Super Stocks, F/E Dragsters and Altereds - Reynolds, Ga
DESCRIPTION:Southeast Nostalgia Drag Racing \"Nostalgia Invitational D
 rags\", Gassers, Super Stocks, F/E Dragsters and Altereds at Silver Do
 llar Raceway.\n\nFor more information visit https://www.southeastwheel
 sevents.com/events/southeast-nostalgia-drag-racing-nostalgia-invitatio
 nal-drags-1
DTSTART;TZID=Pacific/Midway:20180921T180000
DTEND;TZID=Pacific/Midway:20180922T190000
CATEGORIES:car, show, cruise, in
LOCATION:Silver Dollar Raceway,
WEBSITE:http://southeastnostalgiadragracing.com
URL:http://southeastnostalgiadragracing.com
CONTACT:(404) 354-3698
ORGANIZER;CN="Anthony Hopkins":https://www.southeastwheelsevents.com/p
 rofile/AnthonyHopkins
ATTACH;FMTTYPE="image/jpeg":http://storage.ning.com/topology/rest/1.0/
 file/get/967793672?profile=original
ATTENDEE;ROLE=REQ-PARTICIPANT;PARTSTAT=ACCEPTED;RSVP=TRUE;CN="Anthony 
 Hopkins":https://www.southeastwheelsevents.com/profile/AnthonyHopkins
END:VEVENT
END:VCALENDAR
