BEGIN:VCALENDAR
PRODID:NingEventWidget-v1
VERSION:2.0
METHOD:PUBLISH
BEGIN:VTIMEZONE
TZID:Pacific/Midway
X-LIC-LOCATION:Pacific/Midway
BEGIN:STANDARD
TZOFFSETFROM:-1100
TZOFFSETTO:-1100
TZNAME:SST
DTSTART:19700101T000000
END:STANDARD
END:VTIMEZONE
BEGIN:VEVENT
UID:5072275:Event:678789
DTSTAMP:20260420T062209Z
SUMMARY:Southeast Showdown 10th Annual Car/Truck Show -Williamston, NC
DESCRIPTION:\n\nWe want to welcome everyone back out for the 10th annu
 al Southeastshowdown truck/car show on July 27-28, 2013 at the Anderso
 n Motor Speedway in Williamston, SC. Open to all vehicles and bikes. S
 am’s Garage, DropEmWear, Welch’s Chop Shop, Freedom Automotive, Ru
 ff Zone, Tint Plus, NOPI, Glassworx, Palmetto Rod Worx, Williamson Aut
 o, Fastech Chassis and Rods and more vendors will be on hand. Cash pay
 outs include Debuting, Best of Show, Best Club Quality and Club Partic
 ipation. Club events, Soap Box Derby, Burnout contest, Saturday evenin
 g drag session, dyno , MECA, Bikini Contest, Tattoo Contest and more t
 o come. We will continue to keep our Pre registration price at only $2
 0.00 for the weekend if received before July 15th !!!!!!!!! If you nee
 d a flyer with the registration form, message me your address and we w
 ill mail you one out. If you are interested in becoming a vendor or sp
 onsor please visit our site at www.southeastshowdown.com\n\n\n\n\n\n\
 n\n\nFor more information visit https://www.southeastwheelsevents.com/
 events/southeast-showdown-10th-annual-car-truck-show-williamston-nc
DTSTART;TZID=Pacific/Midway:20130726T000000
DTEND;TZID=Pacific/Midway:20130728T235900
CATEGORIES:car-show, extravaganza
LOCATION:Anderson Motor Speedway
WEBSITE:https://www.facebook.com/events/176540735851440/
URL:https://www.facebook.com/events/176540735851440/
CONTACT:(864) 226-5481 Sppedway 404-366-4700 NOPI
ORGANIZER:NOPI
ATTACH;FMTTYPE="image/jpeg":http://storage.ning.com/topology/rest/1.0/
 file/get/967642928?profile=original
ATTENDEE;ROLE=REQ-PARTICIPANT;PARTSTAT=ACCEPTED;RSVP=TRUE;CN="Michael 
 Thies":https://www.southeastwheelsevents.com/profile/MichaelThies
END:VEVENT
END:VCALENDAR
