BEGIN:VCALENDAR
PRODID:NingEventWidget-v1
VERSION:2.0
METHOD:PUBLISH
BEGIN:VTIMEZONE
TZID:Pacific/Midway
X-LIC-LOCATION:Pacific/Midway
BEGIN:STANDARD
TZOFFSETFROM:-1100
TZOFFSETTO:-1100
TZNAME:SST
DTSTART:19700101T000000
END:STANDARD
END:VTIMEZONE
BEGIN:VEVENT
UID:5072275:Event:1042946
DTSTAMP:20260420T084544Z
SUMMARY:Southeast Super Truck Series, Southeast Super Stock Series, Ca
 rolina Vintage Racers, Mini Cup
DESCRIPTION:Adult admission – $10 | Children 12 and under – FreeT
 ier Parking (Turns 3 & 4) – $10.00 Per Vehicle Plus Admission (Enter
  on B Side)Tier parking spots are available to reserve at $100. Vehicl
 e fees and admission still applies.\n\nFor more information visit http
 s://www.southeastwheelsevents.com/events/southeast-super-truck-series-
 southeast-super-stock-series
DTSTART;TZID=Pacific/Midway:20170506T000000
DTEND;TZID=Pacific/Midway:20170506T235900
CATEGORIES:race
LOCATION:Kingsport Speedway
WEBSITE:http://www.newkingsportspeedway.com/
URL:http://www.newkingsportspeedway.com/
CONTACT:(423) 288-5992
ORGANIZER:
ATTACH;FMTTYPE="image/jpeg":http://storage.ning.com/topology/rest/1.0/
 file/get/967743605?profile=original
ATTENDEE;ROLE=REQ-PARTICIPANT;PARTSTAT=ACCEPTED;RSVP=TRUE;CN="Christop
 her Gosney":https://www.southeastwheelsevents.com/profile/ChristopherG
 osney
END:VEVENT
END:VCALENDAR
