BEGIN:VCALENDAR
PRODID:NingEventWidget-v1
VERSION:2.0
METHOD:PUBLISH
BEGIN:VTIMEZONE
TZID:Pacific/Midway
X-LIC-LOCATION:Pacific/Midway
BEGIN:STANDARD
TZOFFSETFROM:-1100
TZOFFSETTO:-1100
TZNAME:SST
DTSTART:19700101T000000
END:STANDARD
END:VTIMEZONE
BEGIN:VEVENT
UID:5072275:Event:1006010
DTSTAMP:20260423T145304Z
SUMMARY:Southeast Willys Jeep Get Together -Mills River, NC
DESCRIPTION:Inviting all Willys Jeep owners and Jeep lovers to: \nSOU
 THEAST WILLYS JEEP GET TOGETHER\nRegister early or come the day of to 
 exhibit, sell parts, attend or get involved with the Southeast Willys 
 Jeep Get Together.\nIncluding: Tech Session; \"Willys America Tour\" P
 resentation; Giveaways; Swap Meet & Story Swappin' & Trophies ---  \n
 \nFor more information visit https://www.southeastwheelsevents.com/eve
 nts/southeast-willys-jeep-get-together-5
DTSTART;TZID=Pacific/Midway:20161001T100000
DTEND;TZID=Pacific/Midway:20161001T150000
CATEGORIES:gettogether, "&", swap, meet
LOCATION:Grace Event Center Pavilion (near Asheville, NC airport)
WEBSITE:http://www.southeastwillysjeepgettogether.com
URL:http://www.southeastwillysjeepgettogether.com
CONTACT:(828) 687-0334
ORGANIZER;CN="Will Springer":https://www.southeastwheelsevents.com/pro
 file/WillSpringer
ATTACH;FMTTYPE="image/jpeg":http://storage.ning.com/topology/rest/1.0/
 file/get/967711751?profile=original
ATTENDEE;ROLE=REQ-PARTICIPANT;PARTSTAT=ACCEPTED;RSVP=TRUE;CN="Chuck Aa
 ron":https://www.southeastwheelsevents.com/profile/ChuckAaron
ATTENDEE;ROLE=REQ-PARTICIPANT;PARTSTAT=ACCEPTED;RSVP=TRUE;CN="Will Spr
 inger":https://www.southeastwheelsevents.com/profile/WillSpringer
END:VEVENT
END:VCALENDAR
