BEGIN:VCALENDAR
PRODID:NingEventWidget-v1
VERSION:2.0
METHOD:PUBLISH
BEGIN:VTIMEZONE
TZID:Pacific/Midway
X-LIC-LOCATION:Pacific/Midway
BEGIN:STANDARD
TZOFFSETFROM:-1100
TZOFFSETTO:-1100
TZNAME:SST
DTSTART:19700101T000000
END:STANDARD
END:VTIMEZONE
BEGIN:VEVENT
UID:5072275:Event:1054650
DTSTAMP:20260421T065120Z
SUMMARY:Southeastern Classic XXXI -Guntersville, AL
DESCRIPTION:The Southeastern Classic XXXI will be held on Oct 12th - 1
 5th, 2017 in Guntersville, Alabama. This Guntersville car show is held
  at Lake Guntersville State Park. The Atlanta Healey Club is coming ba
 ck to Lake Guntersville in Northern Alabama for their SE Classic XXXI.
  There will be a car show at the beach, poker run rally, gymkhana, fun
 khana and other fun things to see or do. There will be over 80 Healey 
 from as far as Texas and as north as Canada\n\nFor more information vi
 sit https://www.southeastwheelsevents.com/events/southeastern-classic-
 xxxi
DTSTART;TZID=Pacific/Midway:20171012T180000
DTEND;TZID=Pacific/Midway:20171015T190000
CATEGORIES:car, show, cruise-in
LOCATION:Lake Guntersville State Park
WEBSITE:
URL:
CONTACT:(404) 808-0401 (678) 691-0049(404) 538-9611
ORGANIZER:The Atlanta Healey Club
ATTACH;FMTTYPE="image/jpeg":http://storage.ning.com/topology/rest/1.0/
 file/get/967748721?profile=original
ATTENDEE;ROLE=REQ-PARTICIPANT;PARTSTAT=ACCEPTED;RSVP=TRUE;CN="Lee Gosn
 ey":https://www.southeastwheelsevents.com/profile/LeeGosney
END:VEVENT
END:VCALENDAR
