BEGIN:VCALENDAR
PRODID:NingEventWidget-v1
VERSION:2.0
METHOD:PUBLISH
BEGIN:VTIMEZONE
TZID:Pacific/Midway
X-LIC-LOCATION:Pacific/Midway
BEGIN:STANDARD
TZOFFSETFROM:-1100
TZOFFSETTO:-1100
TZNAME:SST
DTSTART:19700101T000000
END:STANDARD
END:VTIMEZONE
BEGIN:VEVENT
UID:5072275:Event:847075
DTSTAMP:20260423T140340Z
SUMMARY:Southeastern Gas and Petroleum Expo -Maggie Valley, NC
DESCRIPTION:Old gas pumps, tags toys anything old and car related etc.
 \n\n\nFor more information visit https://www.southeastwheelsevents.com
 /events/southeastern-gas-and-petroleum-expo-2
DTSTART;TZID=Pacific/Midway:20160923T000000
DTEND;TZID=Pacific/Midway:20160925T235900
CATEGORIES:old, gas, station, and, car, related, stuff
LOCATION:Maggie Valley Festival Grounds
WEBSITE:http://www.southeasterngasandpetroleumexpo.com
URL:http://www.southeasterngasandpetroleumexpo.com
CONTACT:423-608-4519
ORGANIZER;CN="rodney buckner":https://www.southeastwheelsevents.com/pr
 ofile/rodneybuckner
ATTACH;FMTTYPE="image/jpeg":http://storage.ning.com/topology/rest/1.0/
 file/get/967676336?profile=original
ATTENDEE;ROLE=REQ-PARTICIPANT;PARTSTAT=ACCEPTED;RSVP=TRUE;CN="rodney b
 uckner":https://www.southeastwheelsevents.com/profile/rodneybuckner
ATTENDEE;ROLE=REQ-PARTICIPANT;PARTSTAT=ACCEPTED;RSVP=TRUE;CN="Michael 
 Thies":https://www.southeastwheelsevents.com/profile/MichaelThies
ATTENDEE;ROLE=REQ-PARTICIPANT;PARTSTAT=ACCEPTED;RSVP=TRUE;CN="Billy He
 ndrix":https://www.southeastwheelsevents.com/profile/BillyHendrix
END:VEVENT
END:VCALENDAR
