BEGIN:VCALENDAR
PRODID:NingEventWidget-v1
VERSION:2.0
METHOD:PUBLISH
BEGIN:VTIMEZONE
TZID:Pacific/Midway
X-LIC-LOCATION:Pacific/Midway
BEGIN:STANDARD
TZOFFSETFROM:-1100
TZOFFSETTO:-1100
TZNAME:SST
DTSTART:19700101T000000
END:STANDARD
END:VTIMEZONE
BEGIN:VEVENT
UID:5072275:Event:1056395
DTSTAMP:20260424T234323Z
SUMMARY:Southeastern Gas and Petroleum Expo -Maggie Valley, NC
DESCRIPTION:Old signs , toys , gas pumps etc.\n\nFor more information 
 visit https://www.southeastwheelsevents.com/events/southeastern-gas-an
 d-petroleum-expo-4
DTSTART;TZID=Pacific/Midway:20170714T000000
DTEND;TZID=Pacific/Midway:20170715T235900
CATEGORIES:gas, and, oil
LOCATION:Maggie Valley Festival Grounds
WEBSITE:http://www.surfboardpromotion.com
URL:http://www.surfboardpromotion.com
CONTACT:423-608-4519
ORGANIZER;CN="rodney buckner":https://www.southeastwheelsevents.com/pr
 ofile/rodneybuckner
ATTACH;FMTTYPE="image/jpeg":
ATTENDEE;ROLE=REQ-PARTICIPANT;PARTSTAT=ACCEPTED;RSVP=TRUE;CN="Chuck Aa
 ron":https://www.southeastwheelsevents.com/profile/ChuckAaron886
ATTENDEE;ROLE=REQ-PARTICIPANT;PARTSTAT=ACCEPTED;RSVP=TRUE;CN="rodney b
 uckner":https://www.southeastwheelsevents.com/profile/rodneybuckner
END:VEVENT
END:VCALENDAR
