BEGIN:VCALENDAR
PRODID:NingEventWidget-v1
VERSION:2.0
METHOD:PUBLISH
BEGIN:VTIMEZONE
TZID:Pacific/Midway
X-LIC-LOCATION:Pacific/Midway
BEGIN:STANDARD
TZOFFSETFROM:-1100
TZOFFSETTO:-1100
TZNAME:SST
DTSTART:19700101T000000
END:STANDARD
END:VTIMEZONE
BEGIN:VEVENT
UID:5072275:Event:1072923
DTSTAMP:20260422T055559Z
SUMMARY:Southeastern Gas and Petroleum Expo
DESCRIPTION:Gas and Oil show with vendors selling old gas station item
 s , old pumps , old tags , toys etc.Vendors welcome call 423-608-4519.
 \n\nFor more information visit https://www.southeastwheelsevents.com/e
 vents/southeastern-gas-and-petroleum-expo-7
DTSTART;TZID=Pacific/Midway:20180927T080000
DTEND;TZID=Pacific/Midway:20180929T160000
CATEGORIES:swap, meet
LOCATION:Maggie Valley Festival Grounds
WEBSITE:http://www.surfboardpromotion.com
URL:http://www.surfboardpromotion.com
CONTACT:4236084519
ORGANIZER;CN="rodney buckner":https://www.southeastwheelsevents.com/pr
 ofile/rodneybuckner
ATTACH;FMTTYPE="image/jpeg":http://storage.ning.com/topology/rest/1.0/
 file/get/967757346?profile=original
ATTENDEE;ROLE=REQ-PARTICIPANT;PARTSTAT=ACCEPTED;RSVP=TRUE;CN="rodney b
 uckner":https://www.southeastwheelsevents.com/profile/rodneybuckner
END:VEVENT
END:VCALENDAR
