BEGIN:VCALENDAR
PRODID:NingEventWidget-v1
VERSION:2.0
METHOD:PUBLISH
BEGIN:VTIMEZONE
TZID:Pacific/Midway
X-LIC-LOCATION:Pacific/Midway
BEGIN:STANDARD
TZOFFSETFROM:-1100
TZOFFSETTO:-1100
TZNAME:SST
DTSTART:19700101T000000
END:STANDARD
END:VTIMEZONE
BEGIN:VEVENT
UID:5072275:Event:1255865
DTSTAMP:20260423T205410Z
SUMMARY:Southeastern Hot Rod Show! -Dalton, GA
DESCRIPTION:• Show runs from 8:00 to 3:00 both days• Registration:
  $30.00 per vehicle• Deadline for pre-registration June 1, 2024• T
 op 25 Awards and Fab 4 Awards• Open to pre-’72 Hot Rods and Muscle
  Cars\r\nRegistration:Friday & Saturday 8am-11:30pmNorth Georgia AG Fa
 irgrounds500 Legion DriveDalton, Georgia 30721\r\nEvent Information:Co
 ntact Greg Grier770-686-5785E-mail:greg@southeasternhotrodshow.com\r\n
 \r\nSE Hot Rod Show Flyer 11-8-2024 (pdf)Download\r\n\n\nFor more inf
 ormation visit https://www.southeastwheelsevents.com/events/southeaste
 rn-hot-rod-show-dalton-ga
DTSTART;TZID=Pacific/Midway:20240614T190000
DTEND;TZID=Pacific/Midway:20240615T150000
CATEGORIES:southeastern, hot, rod, "show!", -dalton, ga
LOCATION:North Georgia AG Fairgrounds
WEBSITE:https://southeasternhotrodshow.com/
URL:https://southeasternhotrodshow.com/
CONTACT:770-686-5785 E-mail: greg@southeasternhotrodshow.com
ORGANIZER:Contact Greg Grier
ATTACH;FMTTYPE="image/jpeg":https://storage.ning.com/topology/rest/1.0
 /file/get/12421191296?profile=original
ATTENDEE;ROLE=REQ-PARTICIPANT;PARTSTAT=ACCEPTED;RSVP=TRUE;CN="Michael 
 Thies":https://www.southeastwheelsevents.com/profile/MichaelThies
ATTENDEE;ROLE=REQ-PARTICIPANT;PARTSTAT=ACCEPTED;RSVP=TRUE;CN="Global W
 heels Events":https://www.southeastwheelsevents.com/profile/GreatAmeri
 canServices
END:VEVENT
END:VCALENDAR
