BEGIN:VCALENDAR
PRODID:NingEventWidget-v1
VERSION:2.0
METHOD:PUBLISH
BEGIN:VTIMEZONE
TZID:Pacific/Midway
X-LIC-LOCATION:Pacific/Midway
BEGIN:STANDARD
TZOFFSETFROM:-1100
TZOFFSETTO:-1100
TZNAME:SST
DTSTART:19700101T000000
END:STANDARD
END:VTIMEZONE
BEGIN:VEVENT
UID:5072275:Event:1258342
DTSTAMP:20260422T194605Z
SUMMARY:Southern Cars and Coffee - Griffin, GA
DESCRIPTION:Monthly cruise-in held at Black Smoke Coffee in Griffin, G
 A, or Orchard Hill to the locals.\n\nFor more information visit https:
 //www.southeastwheelsevents.com/events/southern-cars-amp-coffee-griffi
 n-ga
DTSTART;TZID=Pacific/Midway:20240713T080000
DTEND;TZID=Pacific/Midway:20240713T110000
CATEGORIES:cruise, in
LOCATION:Black Smoke Coffee
WEBSITE:
URL:
CONTACT:
ORGANIZER:Mark Engel
ATTACH;FMTTYPE="image/jpeg":https://storage.ning.com/topology/rest/1.0
 /file/get/12490736476?profile=original
ATTENDEE;ROLE=REQ-PARTICIPANT;PARTSTAT=ACCEPTED;RSVP=TRUE;CN="Dan Harm
 on":https://www.southeastwheelsevents.com/profile/DanHarmon
END:VEVENT
END:VCALENDAR
