BEGIN:VCALENDAR
PRODID:NingEventWidget-v1
VERSION:2.0
METHOD:PUBLISH
BEGIN:VTIMEZONE
TZID:Pacific/Midway
X-LIC-LOCATION:Pacific/Midway
BEGIN:STANDARD
TZOFFSETFROM:-1100
TZOFFSETTO:-1100
TZNAME:SST
DTSTART:19700101T000000
END:STANDARD
END:VTIMEZONE
BEGIN:VEVENT
UID:5072275:Event:938346
DTSTAMP:20260423T162301Z
SUMMARY:Southern Devil Mens Holiday Kick Off Party -Cartersville, GA
DESCRIPTION:The Southern Devil Mens Holiday Kick Off Party will be he
 ld at Southern Devil Harley Davidson in Cartersville, Georgia on Decem
 ber 2nd, 2015.\n Location:\n-Southern Devil Harley Davidson in Carters
 ville, Georgia (2281 Highway 411 NE, Cartersville, GA 30121)\n Event H
 ours:\n-6:00pm-7:30pm\n Please Contact For More Information:\n-(678) 7
 21-0203\n\nFor more information visit https://www.southeastwheelsevent
 s.com/events/southern-devil-mens-holiday-kick-off-party-cartersville-g
 a
DTSTART;TZID=Pacific/Midway:20151202T180000
DTEND;TZID=Pacific/Midway:20151202T193000
CATEGORIES:garage-party, bike, motorcycle
LOCATION:Southern Devil Harley Davidson
WEBSITE:http://www.southerndevilhd.com
URL:http://www.southerndevilhd.com
CONTACT:(678) 721-0203
ORGANIZER:Southern Devil Harley Davidson
ATTACH;FMTTYPE="image/jpeg":http://storage.ning.com/topology/rest/1.0/
 file/get/967669436?profile=original
ATTENDEE;ROLE=REQ-PARTICIPANT;PARTSTAT=ACCEPTED;RSVP=TRUE;CN="Chuck Aa
 ron":https://www.southeastwheelsevents.com/profile/ChuckAaron
END:VEVENT
END:VCALENDAR
