BEGIN:VCALENDAR
PRODID:NingEventWidget-v1
VERSION:2.0
METHOD:PUBLISH
BEGIN:VTIMEZONE
TZID:Pacific/Midway
X-LIC-LOCATION:Pacific/Midway
BEGIN:STANDARD
TZOFFSETFROM:-1100
TZOFFSETTO:-1100
TZNAME:SST
DTSTART:19700101T000000
END:STANDARD
END:VTIMEZONE
BEGIN:VEVENT
UID:5072275:Event:1176624
DTSTAMP:20260420T035737Z
SUMMARY:SOUTHERN JEEP FESTIVAL
DESCRIPTION:\r\nWhat to expect at our festival:\r\n-Mission 22 Jeep Sh
 ow N' Shine  -Charity Raffle (Teraflex, Rugged Ridge, DS18 and more.)
  -Competitions including Lights, Audio and Flex. -RC cars Championship
  and Demo Course -Kids Play Pit Area (Sponsored by: SC Party Rentals) 
 -Live Entrainment with performances by: *Shelby Kay a.k.a. \"SK\" *Fra
 nklin Embry - Dem Bourbon Boyz *KATIE NOEL *Parker Ford *Buckshot the 
 Band *BENTON BLOUNT\r\n\n\nFor more information visit https://www.sout
 heastwheelsevents.com/events/southern-jeep-festival-2
DTSTART;TZID=Pacific/Midway:20190929T000000
DTEND;TZID=Pacific/Midway:20190929T235900
CATEGORIES:benefit, for, shriners, hospitals
LOCATION:GREENVILLE PICKENS SPEEDWAY
WEBSITE:
URL:
CONTACT:
ORGANIZER:
ATTACH;FMTTYPE="image/jpeg":https://storage.ning.com/topology/rest/1.0
 /file/get/3426026975?profile=original
ATTENDEE;ROLE=REQ-PARTICIPANT;PARTSTAT=ACCEPTED;RSVP=TRUE;CN="Jeffrey 
 Rutherford":https://www.southeastwheelsevents.com/profile/JeffreyRuthe
 rford866
END:VEVENT
END:VCALENDAR
