BEGIN:VCALENDAR
PRODID:NingEventWidget-v1
VERSION:2.0
METHOD:PUBLISH
BEGIN:VTIMEZONE
TZID:Pacific/Midway
X-LIC-LOCATION:Pacific/Midway
BEGIN:STANDARD
TZOFFSETFROM:-1100
TZOFFSETTO:-1100
TZNAME:SST
DTSTART:19700101T000000
END:STANDARD
END:VTIMEZONE
BEGIN:VEVENT
UID:5072275:Event:1093138
DTSTAMP:20260421T062943Z
SUMMARY:Southern Show Out 3.0 - Columbus, Ga
DESCRIPTION:Southern Show Out 3.0\n\n\nFor more information visit http
 s://www.southeastwheelsevents.com/events/southern-show-out-3-0-columbu
 s-ga
DTSTART;TZID=Pacific/Midway:20180922T100000
DTEND;TZID=Pacific/Midway:20180922T160000
CATEGORIES:car, show, cruise, in, bike
LOCATION:Chattahoochee Harley-Davidson
WEBSITE:https://www.google.co.in/maps/place/Chattahoochee+Harley-David
 son/@32.5637979,-84.9443141,17z/data=!3m1!4b1!4m5!3m4!1s0x888ccb373c13
 b5c5:0xf94b5ec99126a4a8!8m2!3d32.5637979!4d-84.94212
URL:https://www.google.co.in/maps/place/Chattahoochee+Harley-Davidson/
 @32.5637979,-84.9443141,17z/data=!3m1!4b1!4m5!3m4!1s0x888ccb373c13b5c5
 :0xf94b5ec99126a4a8!8m2!3d32.5637979!4d-84.94212
CONTACT:
ORGANIZER:Xclusive KonceptZ
ATTACH;FMTTYPE="image/jpeg":http://storage.ning.com/topology/rest/1.0/
 file/get/967787977?profile=original
ATTENDEE;ROLE=REQ-PARTICIPANT;PARTSTAT=ACCEPTED;RSVP=TRUE;CN="Anthony 
 Hopkins":https://www.southeastwheelsevents.com/profile/AnthonyHopkins
END:VEVENT
END:VCALENDAR
