BEGIN:VCALENDAR
PRODID:NingEventWidget-v1
VERSION:2.0
METHOD:PUBLISH
BEGIN:VTIMEZONE
TZID:Pacific/Midway
X-LIC-LOCATION:Pacific/Midway
BEGIN:STANDARD
TZOFFSETFROM:-1100
TZOFFSETTO:-1100
TZNAME:SST
DTSTART:19700101T000000
END:STANDARD
END:VTIMEZONE
BEGIN:VEVENT
UID:5072275:Event:487508
DTSTAMP:20260423T232945Z
SUMMARY:Southern Speed Festival -Nichols, GA
DESCRIPTION:\n\nDMP Motorsports Park. Gates open 10am Sat. Live music,
  Battle of the Bands, BBQ & Chili Cookoff, Swap Meet & Trade Show. Aba
 te D15 Membership Drive. Ms. Southern Diva Competition.\nAddress: 156
 0 Ronnie Walker Rd Nichols, Georgia\n\n\n\n\n\n\n\nContact info:\n\n\n
 \n\n810-545-7223\n\n\n\n\n\n\n\n\n\nFor more information visit https:/
 /www.southeastwheelsevents.com/events/southern-speed-festival-nichols-
 ga
DTSTART;TZID=Pacific/Midway:20120401T100000
DTEND;TZID=Pacific/Midway:20120405T220000
CATEGORIES:bike, fest
LOCATION:DMP Motorsports Park
WEBSITE:http://www.dmpspeedway.net/
URL:http://www.dmpspeedway.net/
CONTACT:810-545-7223
ORGANIZER:Abate D15
ATTACH;FMTTYPE="image/jpeg":http://storage.ning.com/topology/rest/1.0/
 file/get/967607772?profile=original
ATTENDEE;ROLE=REQ-PARTICIPANT;PARTSTAT=ACCEPTED;RSVP=TRUE;CN=Leroy:htt
 ps://www.southeastwheelsevents.com/profile/Leroy
END:VEVENT
END:VCALENDAR
