BEGIN:VCALENDAR
PRODID:NingEventWidget-v1
VERSION:2.0
METHOD:PUBLISH
BEGIN:VTIMEZONE
TZID:Pacific/Midway
X-LIC-LOCATION:Pacific/Midway
BEGIN:STANDARD
TZOFFSETFROM:-1100
TZOFFSETTO:-1100
TZNAME:SST
DTSTART:19700101T000000
END:STANDARD
END:VTIMEZONE
BEGIN:VEVENT
UID:5072275:Event:1191449
DTSTAMP:20260421T134627Z
SUMMARY:Southland Jubilee, Greensboro, GA
DESCRIPTION:The Southland Jubilee Car Show scheduled for April 18, 202
 0 has been canceled at this time.  We will advise on a future date on
 ce the Corvid-19 crisis is over.\nThank you for your support.\n\nFor m
 ore information visit https://www.southeastwheelsevents.com/events/sou
 thland-jubilee-greensboro-ga-1
DTSTART;TZID=Pacific/Midway:20200418T090000
DTEND;TZID=Pacific/Midway:20200418T160000
CATEGORIES:car, show
LOCATION:Greensboro, GA
WEBSITE:
URL:
CONTACT:7063471105
ORGANIZER:Georgia Classic Cruisers
ATTACH;FMTTYPE="image/jpeg":
ATTENDEE;ROLE=REQ-PARTICIPANT;PARTSTAT=ACCEPTED;RSVP=TRUE;CN="Al Muraw
 ski":https://www.southeastwheelsevents.com/profile/AlMurawski
END:VEVENT
END:VCALENDAR
