BEGIN:VCALENDAR
PRODID:NingEventWidget-v1
VERSION:2.0
METHOD:PUBLISH
BEGIN:VTIMEZONE
TZID:Pacific/Midway
X-LIC-LOCATION:Pacific/Midway
BEGIN:STANDARD
TZOFFSETFROM:-1100
TZOFFSETTO:-1100
TZNAME:SST
DTSTART:19700101T000000
END:STANDARD
END:VTIMEZONE
BEGIN:VEVENT
UID:5072275:Event:1080799
DTSTAMP:20260424T002905Z
SUMMARY:Southland Jubilee, Greensboro, GA
DESCRIPTION:The quaint historic town of Greensboro, GA is the setting 
 for the 2018 Southland Jubilee.  This unique festival is centered in 
 the downtown business district.  The Jubilee features classic cars, e
 ntertainment, antique tractors, arts & craft vendors, children's activ
 ities, food and much more.  The car show will be located on South Mai
 n street in downtown Greensboro.  Music by Tommy Landrum- Cruzin to t
 he Oldies.\n\nFor more information visit https://www.southeastwheelsev
 ents.com/events/southland-jubilee-greensboro-ga
DTSTART;TZID=Pacific/Midway:20180421T080000
DTEND;TZID=Pacific/Midway:20180421T160000
CATEGORIES:festival, arts, "&amp", crafts, and, car, show
LOCATION:Downtown Greensboro, GA
WEBSITE:http://georgiaclassiccruisers.com
URL:http://georgiaclassiccruisers.com
CONTACT:7063471105
ORGANIZER:Georgia Classic Cruisers
ATTACH;FMTTYPE="image/jpeg":
ATTENDEE;ROLE=REQ-PARTICIPANT;PARTSTAT=ACCEPTED;RSVP=TRUE;CN="Al Muraw
 ski":https://www.southeastwheelsevents.com/profile/AlMurawski
END:VEVENT
END:VCALENDAR
