BEGIN:VCALENDAR
PRODID:NingEventWidget-v1
VERSION:2.0
METHOD:PUBLISH
BEGIN:VTIMEZONE
TZID:Pacific/Midway
X-LIC-LOCATION:Pacific/Midway
BEGIN:STANDARD
TZOFFSETFROM:-1100
TZOFFSETTO:-1100
TZNAME:SST
DTSTART:19700101T000000
END:STANDARD
END:VTIMEZONE
BEGIN:VEVENT
UID:5072275:Event:812588
DTSTAMP:20260421T202248Z
SUMMARY:Southwest Music Festival and Car Show -Atlanta, GA
DESCRIPTION:23rd Annual Southwest Music Festival and Car Show at Casca
 de Driving Range on Cascade Road, from 10 A.M.- 10 P.M., Info: Kelly L
 andres 404.349.4712.\n\nFor more information visit https://www.southea
 stwheelsevents.com/events/southwest-music-festival-and-car-show-atlant
 a-ga
DTSTART;TZID=Pacific/Midway:20140726T000000
DTEND;TZID=Pacific/Midway:20140727T235900
CATEGORIES:music, car-show
LOCATION:Cascade Driving Range
WEBSITE:https://www.facebook.com/pages/Cascade-Road-Driving-Range/1049
 12272884891
URL:https://www.facebook.com/pages/Cascade-Road-Driving-Range/10491227
 2884891
CONTACT:Kelly Landres 404.349.4712.
ORGANIZER:Cascade Driving Range
ATTACH;FMTTYPE="image/jpeg":http://storage.ning.com/topology/rest/1.0/
 file/get/967665361?profile=original
ATTENDEE;ROLE=REQ-PARTICIPANT;PARTSTAT=ACCEPTED;RSVP=TRUE;CN="Chuck Aa
 ron":https://www.southeastwheelsevents.com/profile/ChuckAaron
END:VEVENT
END:VCALENDAR
