BEGIN:VCALENDAR
PRODID:NingEventWidget-v1
VERSION:2.0
METHOD:PUBLISH
BEGIN:VTIMEZONE
TZID:Pacific/Midway
X-LIC-LOCATION:Pacific/Midway
BEGIN:STANDARD
TZOFFSETFROM:-1100
TZOFFSETTO:-1100
TZNAME:SST
DTSTART:19700101T000000
END:STANDARD
END:VTIMEZONE
BEGIN:VEVENT
UID:5072275:Event:757850
DTSTAMP:20260420T164244Z
SUMMARY:SPFC All Ford Show at the Charlotte AutoFair -Charlotte, NC
DESCRIPTION:Southern Performance Ford Club \"All Ford\" Show at the Ch
 arlotte AutoFair -Charlotte, NC\n\n\nFor more information visit https:
 //www.southeastwheelsevents.com/events/spfc-all-ford-show-at-the-charl
 otte-autofair-charlotte-nc
DTSTART;TZID=Pacific/Midway:20140405T000000
DTEND;TZID=Pacific/Midway:20140406T235900
CATEGORIES:car, show
LOCATION:Charlotte Motor Speedway
WEBSITE:https://www.facebook.com/SouthernPerformanceFordClubSpfc
URL:https://www.facebook.com/SouthernPerformanceFordClubSpfc
CONTACT:704-568-3362, 704-817-9277
ORGANIZER:Southern Performance Ford Club
ATTACH;FMTTYPE="image/jpeg":http://storage.ning.com/topology/rest/1.0/
 file/get/967655396?profile=original
ATTENDEE;ROLE=REQ-PARTICIPANT;PARTSTAT=ACCEPTED;RSVP=TRUE;CN="Chuck Aa
 ron":https://www.southeastwheelsevents.com/profile/ChuckAaron
END:VEVENT
END:VCALENDAR
