BEGIN:VCALENDAR
PRODID:NingEventWidget-v1
VERSION:2.0
METHOD:PUBLISH
BEGIN:VTIMEZONE
TZID:Pacific/Midway
X-LIC-LOCATION:Pacific/Midway
BEGIN:STANDARD
TZOFFSETFROM:-1100
TZOFFSETTO:-1100
TZNAME:SST
DTSTART:19700101T000000
END:STANDARD
END:VTIMEZONE
BEGIN:VEVENT
UID:5072275:Event:1255132
DTSTAMP:20260423T161823Z
SUMMARY:Sport
DESCRIPTION:\n\nFor more information visit https://www.southeastwheels
 events.com/events/sport
DTSTART;TZID=Pacific/Midway:20240216T180000
DTEND;TZID=Pacific/Midway:20240216T190000
CATEGORIES:sport
LOCATION:Sport
WEBSITE:
URL:
CONTACT:
ORGANIZER;CN="Karena Bilana":https://www.southeastwheelsevents.com/pro
 file/KarenaBilana
ATTACH;FMTTYPE="image/jpeg":
ATTENDEE;ROLE=REQ-PARTICIPANT;PARTSTAT=ACCEPTED;RSVP=TRUE;CN="Karena B
 ilana":https://www.southeastwheelsevents.com/profile/KarenaBilana
END:VEVENT
END:VCALENDAR
