BEGIN:VCALENDAR
PRODID:NingEventWidget-v1
VERSION:2.0
METHOD:PUBLISH
BEGIN:VTIMEZONE
TZID:Pacific/Midway
X-LIC-LOCATION:Pacific/Midway
BEGIN:STANDARD
TZOFFSETFROM:-1100
TZOFFSETTO:-1100
TZNAME:SST
DTSTART:19700101T000000
END:STANDARD
END:VTIMEZONE
BEGIN:VEVENT
UID:5072275:Event:513014
DTSTAMP:20260423T083407Z
SUMMARY:Spring BashCar, Truck & Bike Show -Tuscaloosa, AL
DESCRIPTION:\n\nFor more information visit https://www.southeastwheels
 events.com/events/spring-bash
DTSTART;TZID=Pacific/Midway:20160528T080000
DTEND;TZID=Pacific/Midway:20160528T150000
CATEGORIES:charity, car, truck, show
LOCATION:Hooters of Tuscaloosa
WEBSITE:http://www.nolimitskustoms.com
URL:http://www.nolimitskustoms.com
CONTACT:Russell: 205-792-2549, Duffy: 205-399-5287
ORGANIZER:No Limits Kustoms
ATTACH;FMTTYPE="image/jpeg":http://storage.ning.com/topology/rest/1.0/
 file/get/967612208?profile=original
ATTENDEE;ROLE=REQ-PARTICIPANT;PARTSTAT=ACCEPTED;RSVP=TRUE;CN="Ricky Ki
 rcharr":https://www.southeastwheelsevents.com/profile/RickyKircharr
ATTENDEE;ROLE=REQ-PARTICIPANT;PARTSTAT=ACCEPTED;RSVP=TRUE;CN="Jack Tho
 mas":https://www.southeastwheelsevents.com/profile/JackThomas
END:VEVENT
END:VCALENDAR
