BEGIN:VCALENDAR
PRODID:NingEventWidget-v1
VERSION:2.0
METHOD:PUBLISH
BEGIN:VTIMEZONE
TZID:Pacific/Midway
X-LIC-LOCATION:Pacific/Midway
BEGIN:STANDARD
TZOFFSETFROM:-1100
TZOFFSETTO:-1100
TZNAME:SST
DTSTART:19700101T000000
END:STANDARD
END:VTIMEZONE
BEGIN:VEVENT
UID:5072275:Event:1256086
DTSTAMP:20260422T213442Z
SUMMARY:Spring Cruise In - Villa Rica, GA
DESCRIPTION:Spring Cruise In - Villa Rica, GA\n\nFor more information 
 visit https://www.southeastwheelsevents.com/events/spring-cruise-in-vi
 lla-rica-ga
DTSTART;TZID=Pacific/Midway:20240413T110000
DTEND;TZID=Pacific/Midway:20240413T140000
CATEGORIES:car, show, cruise, in
LOCATION:Happy Valley Baptist Church
WEBSITE:
URL:
CONTACT:Jonathan 770-881-0080
ORGANIZER:
ATTACH;FMTTYPE="image/jpeg":https://storage.ning.com/topology/rest/1.0
 /file/get/12423265870?profile=original
ATTENDEE;ROLE=REQ-PARTICIPANT;PARTSTAT=ACCEPTED;RSVP=TRUE;CN="Global W
 heels Events":https://www.southeastwheelsevents.com/profile/GreatAmeri
 canServices
END:VEVENT
END:VCALENDAR
