BEGIN:VCALENDAR
PRODID:NingEventWidget-v1
VERSION:2.0
METHOD:PUBLISH
BEGIN:VTIMEZONE
TZID:Pacific/Midway
X-LIC-LOCATION:Pacific/Midway
BEGIN:STANDARD
TZOFFSETFROM:-1100
TZOFFSETTO:-1100
TZNAME:SST
DTSTART:19700101T000000
END:STANDARD
END:VTIMEZONE
BEGIN:VEVENT
UID:5072275:Event:1076972
DTSTAMP:20260424T011405Z
SUMMARY:Spring In The Beam -Montgomery, AL
DESCRIPTION:\n\nFor more information visit https://www.southeastwheels
 events.com/events/spring-in-the-beam-montgomery-al
DTSTART;TZID=Pacific/Midway:20180304T120000
DTEND;TZID=Pacific/Midway:20180304T180000
CATEGORIES:race, drag
LOCATION:MONTGOMERY RACEWAY PARK
WEBSITE:http://www.montgomeryracewaypark.com/
URL:http://www.montgomeryracewaypark.com/
CONTACT:404-824-4696, 334-531-9574
ORGANIZER:PTO
ATTACH;FMTTYPE="image/jpeg":http://storage.ning.com/topology/rest/1.0/
 file/get/967738797?profile=original
ATTENDEE;ROLE=REQ-PARTICIPANT;PARTSTAT=ACCEPTED;RSVP=TRUE;CN="Chuck Aa
 ron":https://www.southeastwheelsevents.com/profile/ChuckAaron886
END:VEVENT
END:VCALENDAR
