BEGIN:VCALENDAR
PRODID:NingEventWidget-v1
VERSION:2.0
METHOD:PUBLISH
BEGIN:VTIMEZONE
TZID:Pacific/Midway
X-LIC-LOCATION:Pacific/Midway
BEGIN:STANDARD
TZOFFSETFROM:-1100
TZOFFSETTO:-1100
TZNAME:SST
DTSTART:19700101T000000
END:STANDARD
END:VTIMEZONE
BEGIN:VEVENT
UID:5072275:Event:1244615
DTSTAMP:20260423T093800Z
SUMMARY:Spring Is Here Car And Bike Show -Hinesville, GA
DESCRIPTION:\r\n\r\n\r\n5th Annual Spring Is Here Car And Bike Show wi
 th Trophies  Sound and exhaust competition, kids power wheel show, 50/
 50 raffle, vendors and more.  Spectators Free  Car & Truck Registratio
 n $25 - Motorcycle Registration $15\r\n\r\n\r\n\n\nFor more informatio
 n visit https://www.southeastwheelsevents.com/events/spring-is-here-ca
 r-and-bike-show-hinesville-ga
DTSTART;TZID=Pacific/Midway:20230325T000000
DTEND;TZID=Pacific/Midway:20230325T235900
CATEGORIES:car, show, motorcycle, bike
LOCATION:Empire Event Center
WEBSITE:
URL:
CONTACT:
ORGANIZER:
ATTACH;FMTTYPE="image/jpeg":https://storage.ning.com/topology/rest/1.0
 /file/get/10995918293?profile=original
ATTENDEE;ROLE=REQ-PARTICIPANT;PARTSTAT=ACCEPTED;RSVP=TRUE;CN="Chuck Aa
 ron":https://www.southeastwheelsevents.com/profile/ChuckAaron886
END:VEVENT
END:VCALENDAR
