BEGIN:VCALENDAR
PRODID:NingEventWidget-v1
VERSION:2.0
METHOD:PUBLISH
BEGIN:VTIMEZONE
TZID:Pacific/Midway
X-LIC-LOCATION:Pacific/Midway
BEGIN:STANDARD
TZOFFSETFROM:-1100
TZOFFSETTO:-1100
TZNAME:SST
DTSTART:19700101T000000
END:STANDARD
END:VTIMEZONE
BEGIN:VEVENT
UID:5072275:Event:1083030
DTSTAMP:20260424T163034Z
SUMMARY:\"Street2Strip\" Drag Meet, Car Show -Calhoun, GA
DESCRIPTION:A great track event coming up next Sunday! It’s gear tow
 ards the people that have never had a chance to race on a track and wa
 nt to learn and compete in a similar class.\r\n\n\nFor more informatio
 n visit https://www.southeastwheelsevents.com/events/spring-show-amp-g
 o-nostalgia-drag-meet-car-show-amp-swap-meet
DTSTART;TZID=Pacific/Midway:20190728T080000
DTEND;TZID=Pacific/Midway:20190728T160000
CATEGORIES:nostalgia, drag, meet, car, show
LOCATION:Paradise Drag Strip
WEBSITE:http://www.paradisedragstrip.net/
URL:http://www.paradisedragstrip.net/
CONTACT:(706) 934-3437 or (770)608-0405
ORGANIZER:B.B Brown - Paradise Drag Strip
ATTACH;FMTTYPE="image/jpeg":http://storage.ning.com/topology/rest/1.0/
 file/get/967768897?profile=original
ATTENDEE;ROLE=REQ-PARTICIPANT;PARTSTAT=ACCEPTED;RSVP=TRUE;CN="Anthony 
 Hopkins":https://www.southeastwheelsevents.com/profile/AnthonyHopkins
ATTENDEE;ROLE=REQ-PARTICIPANT;PARTSTAT=TENTATIVE;RSVP=TRUE;CN="Robert 
 D. sauer":https://www.southeastwheelsevents.com/profile/RobertDsauer
END:VEVENT
END:VCALENDAR
