BEGIN:VCALENDAR
PRODID:NingEventWidget-v1
VERSION:2.0
METHOD:PUBLISH
BEGIN:VTIMEZONE
TZID:Pacific/Midway
X-LIC-LOCATION:Pacific/Midway
BEGIN:STANDARD
TZOFFSETFROM:-1100
TZOFFSETTO:-1100
TZNAME:SST
DTSTART:19700101T000000
END:STANDARD
END:VTIMEZONE
BEGIN:VEVENT
UID:5072275:Event:621881
DTSTAMP:20260422T221928Z
SUMMARY:Ford/GM Spring Show & Shine -Montgomery, AL
DESCRIPTION:The Tri-County Mustang Club & The GM High Performance Club
 presents the 7th Annual Spring Show & Shine!** All Makes & models welc
 ome**Registration is $20**Door Prizes **Photo plaques for Top 3-- For
 d, GM, Mopar & Best of Show**Plaques for all registered carsFor more i
 nfo call Jerry Lowery at 334-233-5369 orBob Hinson at 334-315-5248\n\n
 \nFor more information visit https://www.southeastwheelsevents.com/eve
 nts/spring-show-shine-montgomery-al
DTSTART;TZID=Pacific/Midway:20140308T080000
DTEND;TZID=Pacific/Midway:20140308T140000
CATEGORIES:"car show & shine"
LOCATION:Rock Bottom American Pub
WEBSITE:https://www.facebook.com/pages/Rock-Bottom-American-Pub/128547
 970494473
URL:https://www.facebook.com/pages/Rock-Bottom-American-Pub/1285479704
 94473
CONTACT:334-233-5369 or 334-315-5248
ORGANIZER:Jerry Lowery & Bob Hinson
ATTACH;FMTTYPE="image/jpeg":http://storage.ning.com/topology/rest/1.0/
 file/get/967633397?profile=original
ATTENDEE;ROLE=REQ-PARTICIPANT;PARTSTAT=ACCEPTED;RSVP=TRUE;CN="Michael 
 Thies":https://www.southeastwheelsevents.com/profile/MichaelThies
END:VEVENT
END:VCALENDAR
