BEGIN:VCALENDAR
PRODID:NingEventWidget-v1
VERSION:2.0
METHOD:PUBLISH
BEGIN:VTIMEZONE
TZID:Pacific/Midway
X-LIC-LOCATION:Pacific/Midway
BEGIN:STANDARD
TZOFFSETFROM:-1100
TZOFFSETTO:-1100
TZNAME:SST
DTSTART:19700101T000000
END:STANDARD
END:VTIMEZONE
BEGIN:VEVENT
UID:5072275:Event:1002930
DTSTAMP:20260420T175242Z
SUMMARY:Springdale Volunteer Fire Department Car Show -Tazewell, TN
DESCRIPTION:Springdale Volunteer Fire Department Car Show -Tazewell, T
 N\n\nFor more information visit https://www.southeastwheelsevents.com/
 events/springdale-volunteer-fire-department-car-show-tazewell-tn
DTSTART;TZID=Pacific/Midway:20170819T090000
DTEND;TZID=Pacific/Midway:20170819T150000
CATEGORIES:car, show, fund, raiser
LOCATION:Springdale School
WEBSITE:
URL:
CONTACT:423-438-1787
ORGANIZER:Springdale Volunteer Fire Department
ATTACH;FMTTYPE="image/jpeg":http://storage.ning.com/topology/rest/1.0/
 file/get/967715738?profile=original
ATTENDEE;ROLE=REQ-PARTICIPANT;PARTSTAT=ACCEPTED;RSVP=TRUE;CN="Chuck Aa
 ron":https://www.southeastwheelsevents.com/profile/ChuckAaron
END:VEVENT
END:VCALENDAR
