BEGIN:VCALENDAR
PRODID:NingEventWidget-v1
VERSION:2.0
METHOD:PUBLISH
BEGIN:VTIMEZONE
TZID:Pacific/Midway
X-LIC-LOCATION:Pacific/Midway
BEGIN:STANDARD
TZOFFSETFROM:-1100
TZOFFSETTO:-1100
TZNAME:SST
DTSTART:19700101T000000
END:STANDARD
END:VTIMEZONE
BEGIN:VEVENT
UID:5072275:Event:1103558
DTSTAMP:20260424T081904Z
SUMMARY:Springfield Fall Festival Classic Car Show - Springfield, Ga
DESCRIPTION:Springfield Fall Festival Classic Car Show Downtown.\n\nFo
 r more information visit https://www.southeastwheelsevents.com/events/
 springfield-fall-festival-classic-car-show-springfield-ga
DTSTART;TZID=Pacific/Midway:20181103T080000
DTEND;TZID=Pacific/Midway:20181103T120000
CATEGORIES:car, show, cruise, in
LOCATION:Springfield, Ga
WEBSITE:
URL:
CONTACT:(912) 754-6311
ORGANIZER:
ATTACH;FMTTYPE="image/jpeg":http://storage.ning.com/topology/rest/1.0/
 file/get/967801205?profile=original
ATTENDEE;ROLE=REQ-PARTICIPANT;PARTSTAT=ACCEPTED;RSVP=TRUE;CN="Anthony 
 Hopkins":https://www.southeastwheelsevents.com/profile/AnthonyHopkins
END:VEVENT
END:VCALENDAR
