BEGIN:VCALENDAR
PRODID:NingEventWidget-v1
VERSION:2.0
METHOD:PUBLISH
BEGIN:VTIMEZONE
TZID:Pacific/Midway
X-LIC-LOCATION:Pacific/Midway
BEGIN:STANDARD
TZOFFSETFROM:-1100
TZOFFSETTO:-1100
TZNAME:SST
DTSTART:19700101T000000
END:STANDARD
END:VTIMEZONE
BEGIN:VEVENT
UID:5072275:Event:1102696
DTSTAMP:20260422T055705Z
SUMMARY:Squealin On The Square Car Show - Laurens, Sc
DESCRIPTION:Squealin On The Square Car Show.\n\nFor more information v
 isit https://www.southeastwheelsevents.com/events/squealin-on-the-squa
 re-car-show-laurens-sc
DTSTART;TZID=Pacific/Midway:20181006T080000
DTEND;TZID=Pacific/Midway:20181006T150000
CATEGORIES:car, show, cruise, in
LOCATION:Square,
WEBSITE:https://www.google.co.in/maps/place/Main+Street+Laurens+USA/@3
 4.4992888,-82.0166302,17z/data=!4m8!1m2!2m1!1s200+Courthouse+SQ,+Laure
 ns,+SC!3m4!1s0x8857ee6dd271ee29:0x634b3f91cd1b5934!8m2!3d34.4992623!4d
 -82.0143986
URL:https://www.google.co.in/maps/place/Main+Street+Laurens+USA/@34.49
 92888,-82.0166302,17z/data=!4m8!1m2!2m1!1s200+Courthouse+SQ,+Laurens,+
 SC!3m4!1s0x8857ee6dd271ee29:0x634b3f91cd1b5934!8m2!3d34.4992623!4d-82.
 0143986
CONTACT:(864) 872-0801
ORGANIZER:Craig White
ATTACH;FMTTYPE="image/jpeg":http://storage.ning.com/topology/rest/1.0/
 file/get/967797414?profile=original
ATTENDEE;ROLE=REQ-PARTICIPANT;PARTSTAT=ACCEPTED;RSVP=TRUE;CN="Anthony 
 Hopkins":https://www.southeastwheelsevents.com/profile/AnthonyHopkins
END:VEVENT
END:VCALENDAR
