BEGIN:VCALENDAR
PRODID:NingEventWidget-v1
VERSION:2.0
METHOD:PUBLISH
BEGIN:VTIMEZONE
TZID:Pacific/Midway
X-LIC-LOCATION:Pacific/Midway
BEGIN:STANDARD
TZOFFSETFROM:-1100
TZOFFSETTO:-1100
TZNAME:SST
DTSTART:19700101T000000
END:STANDARD
END:VTIMEZONE
BEGIN:VEVENT
UID:5072275:Event:1201983
DTSTAMP:20260421T124708Z
SUMMARY:Tips for Starting and Succeeding in Your Own Business, Wowessa
 ys.com review
DESCRIPTION:What do you need to do to start a business? There are doze
 ns of sites, including ours, that have checklists that remind you of t
 he many tasks you must perform when starting a business.\nWhile these 
 checklists are very useful because they help you remember important st
 artup steps, they are just to-do lists. They tell you what to do, but 
 do not provide tips on what makes a business successful.\nUnfortunatel
 y, you are not successful in business just by completing a to-do list.
  Not even your business will be successful just because you think it i
 s a good idea.\nWhat will do or break your business? What determines w
 hether it will be a success? Here are tips for starting a business and
  making it successful.\nKnow yourself, your true level of motivation, 
 the amount of money you can risk, and what you are willing to do to su
 cceed. Of course, we all want to make millions of dollars. But what ar
 e you willing to give up to achieve that goal, as write my book report
 ?\nHow many hours a week will you work continuously? How far from your
  comfort zone are you willing to stretch? How far will your family go 
 with you? To be successful, keep your business plans in line with your
  personal and family goals and resources.\n Choose the right business 
 for you. The old formula - find a need and fill it - still works. It w
 ill always work. The key to success is finding needs that you can meet
 , that you want to fill and that generate enough income to build a pro
 fitable business.\n Make sure that there really is a market for what y
 ou want to sell. One of the biggest mistakes that startups make is ass
 uming that many people will want to buy a certain product or service b
 ecause the entrepreneur likes the ideas or knows one or two people who
  want the product or service. To minimize the risk of loss, never assu
 me that a market exists. Research the idea.\nTalk to real potential cu
 stomers (who are not family and friends) to find out if what you want 
 to sell is something they would be interested in buying and, if so, ho
 w much they would pay for the product or service. Research your compet
 itors.\nNo matter what type of business you are starting or running, y
 ou will have competitors. Even if there is no other company offering e
 xactly what you plan to sell, it is very likely that there are other p
 roducts or services that your target customers are using to satisfy th
 eir needs.\nTo be successful, you need to research the competition and
  find out as much as possible about what it sells and how it sells. Co
 mpetitive research is something you should plan to do on an ongoing ba
 sis.\n Plan for success. If you are not looking for investors or putti
 ng a large sum of money into your business, you may not need an elabor
 ate business plan, but you still need a plan - one that specifies your
  goal - your destination - and then define by least a basic roadmap of
  how you will get where you want to go.\nThe plan will change as you p
 rogress and learn more about your customers and the competition, but i
 t will still help you stay focused and move in the right direction. Us
 e our business planning worksheet to help develop this basic plan.\n 
 \n\n\nFor more information visit https://www.southeastwheelsevents.com
 /events/sss
DTSTART;TZID=Pacific/Midway:20200826T000000
DTEND;TZID=Pacific/Midway:20200826T235900
CATEGORIES:business
LOCATION:New York, NY
WEBSITE:
URL:
CONTACT:
ORGANIZER;CN=Wowessays:https://www.southeastwheelsevents.com/profile/J
 ames808
ATTACH;FMTTYPE="image/jpeg":https://storage.ning.com/topology/rest/1.0
 /file/get/7619285278?profile=original
ATTENDEE;ROLE=REQ-PARTICIPANT;PARTSTAT=ACCEPTED;RSVP=TRUE;CN=NedWillis
 :https://www.southeastwheelsevents.com/profile/NedWillis
ATTENDEE;ROLE=REQ-PARTICIPANT;PARTSTAT=ACCEPTED;RSVP=TRUE;CN=Wowessays
 :https://www.southeastwheelsevents.com/profile/James808
END:VEVENT
END:VCALENDAR
