BEGIN:VCALENDAR
PRODID:NingEventWidget-v1
VERSION:2.0
METHOD:PUBLISH
BEGIN:VTIMEZONE
TZID:Pacific/Midway
X-LIC-LOCATION:Pacific/Midway
BEGIN:STANDARD
TZOFFSETFROM:-1100
TZOFFSETTO:-1100
TZNAME:SST
DTSTART:19700101T000000
END:STANDARD
END:VTIMEZONE
BEGIN:VEVENT
UID:5072275:Event:1042399
DTSTAMP:20260423T125014Z
SUMMARY:Stadium Stock 50; Twin 25-lap Modified races; Chain Race
DESCRIPTION:All events are on Saturday nights and include races for al
 l stadium divisions. Unless otherwise indicated: Saturday programs inc
 lude two 25-lap Modified races; two 20-lap Sportsman races; 20-lap Str
 eet Stock race; and, depending on number of entries, one or two 15-lap
  Stadium Stock races. At $2 Ladies’ Night events, female fans are ad
 mitted for $2 (no escort is required).\n\nFor more information visit h
 ttps://www.southeastwheelsevents.com/events/stadium-stock-50-twin-25-l
 ap-modified-races-chain-race
DTSTART;TZID=Pacific/Midway:20170610T000000
DTEND;TZID=Pacific/Midway:20170610T235900
CATEGORIES:race
LOCATION:Bowman Gray Stadium
WEBSITE:http://bowmangrayracing.com/index.html
URL:http://bowmangrayracing.com/index.html
CONTACT:3367231819
ORGANIZER:
ATTACH;FMTTYPE="image/jpeg":http://storage.ning.com/topology/rest/1.0/
 file/get/967743381?profile=original
ATTENDEE;ROLE=REQ-PARTICIPANT;PARTSTAT=ACCEPTED;RSVP=TRUE;CN="Christop
 her Gosney":https://www.southeastwheelsevents.com/profile/ChristopherG
 osney
END:VEVENT
END:VCALENDAR
