BEGIN:VCALENDAR
PRODID:NingEventWidget-v1
VERSION:2.0
METHOD:PUBLISH
BEGIN:VTIMEZONE
TZID:Pacific/Midway
X-LIC-LOCATION:Pacific/Midway
BEGIN:STANDARD
TZOFFSETFROM:-1100
TZOFFSETTO:-1100
TZNAME:SST
DTSTART:19700101T000000
END:STANDARD
END:VTIMEZONE
BEGIN:VEVENT
UID:5072275:Event:1025537
DTSTAMP:20260423T090444Z
SUMMARY:Star City Cruisers Monthly Meeting
DESCRIPTION:Star City Cruisers Monthly Meeting will be held at Roanoke
 r Restaurant, 2522 Colonial Ave SW, Roanoke, VA. Meeting starts at 6:0
 0 pm. and end time may change.\n\nFor more information visit https://w
 ww.southeastwheelsevents.com/events/star-city-cruisers-monthly-meeting
DTSTART;TZID=Pacific/Midway:20161229T180000
DTEND;TZID=Pacific/Midway:20161229T200000
CATEGORIES:cars, "clubs/shows/cruises"
LOCATION:Roanoker Restaurant
WEBSITE:https://www.facebook.com/Star-City-Cruisers-611225335631031/?f
 ref=nf
URL:https://www.facebook.com/Star-City-Cruisers-611225335631031/?fref=
 nf
CONTACT:
ORGANIZER:Star City Cruisers
ATTACH;FMTTYPE="image/jpeg":http://storage.ning.com/topology/rest/1.0/
 file/get/967719525?profile=original
ATTENDEE;ROLE=REQ-PARTICIPANT;PARTSTAT=ACCEPTED;RSVP=TRUE;CN="Chris go
 sney":https://www.southeastwheelsevents.com/profile/Chrisgosney
END:VEVENT
END:VCALENDAR
