BEGIN:VCALENDAR
PRODID:NingEventWidget-v1
VERSION:2.0
METHOD:PUBLISH
BEGIN:VTIMEZONE
TZID:Pacific/Midway
X-LIC-LOCATION:Pacific/Midway
BEGIN:STANDARD
TZOFFSETFROM:-1100
TZOFFSETTO:-1100
TZNAME:SST
DTSTART:19700101T000000
END:STANDARD
END:VTIMEZONE
BEGIN:VEVENT
UID:5072275:Event:614616
DTSTAMP:20260420T223343Z
SUMMARY:Downtown Cruise In -Dallas Ga
DESCRIPTION:Monthly cruise in open to all vehicles\nEvery 4th Saturday
 :\nPlease join us!\n\nFor more information visit https://www.southeast
 wheelsevents.com/events/stars-and-strikes-dallas-ga-1
DTSTART;TZID=Pacific/Midway:20140524T160000
DTEND;TZID=Pacific/Midway:20140524T213000
CATEGORIES:cruise, in
LOCATION:Downtown
WEBSITE:http://www.swapmywhip.com
URL:http://www.swapmywhip.com
CONTACT:7706393632
ORGANIZER;CN="Daniel Krause":https://www.southeastwheelsevents.com/pro
 file/DanielKrause
ATTACH;FMTTYPE="image/jpeg":
ATTENDEE;ROLE=REQ-PARTICIPANT;PARTSTAT=ACCEPTED;RSVP=TRUE;CN="Daniel K
 rause":https://www.southeastwheelsevents.com/profile/DanielKrause
END:VEVENT
END:VCALENDAR
