BEGIN:VCALENDAR
PRODID:NingEventWidget-v1
VERSION:2.0
METHOD:PUBLISH
BEGIN:VTIMEZONE
TZID:Pacific/Midway
X-LIC-LOCATION:Pacific/Midway
BEGIN:STANDARD
TZOFFSETFROM:-1100
TZOFFSETTO:-1100
TZNAME:SST
DTSTART:19700101T000000
END:STANDARD
END:VTIMEZONE
BEGIN:VEVENT
UID:5072275:Event:488850
DTSTAMP:20260420T095258Z
SUMMARY:STARS STIPES & CLASSIC CARS -Cartersville, GA
DESCRIPTION:\n\nFor more information visit https://www.southeastwheels
 events.com/events/stars-stipes-classic-cars
DTSTART;TZID=Pacific/Midway:20130704T090000
DTEND;TZID=Pacific/Midway:20130704T150000
CATEGORIES:cartersville, shrine, club, "&", optimist
LOCATION:Dellinger Park
WEBSITE:
URL:
CONTACT:770-527-9746
ORGANIZER:\"BigTime\" Randy Wilson
ATTACH;FMTTYPE="image/jpeg":http://storage.ning.com/topology/rest/1.0/
 file/get/967608359?profile=original
ATTENDEE;ROLE=REQ-PARTICIPANT;PARTSTAT=ACCEPTED;RSVP=TRUE;CN="Bobby Wi
 lson":https://www.southeastwheelsevents.com/profile/BobbyWilson
ATTENDEE;ROLE=REQ-PARTICIPANT;PARTSTAT=TENTATIVE;RSVP=TRUE;CN="JP Brad
 y":https://www.southeastwheelsevents.com/profile/jpbrady
ATTENDEE;ROLE=REQ-PARTICIPANT;PARTSTAT=TENTATIVE;RSVP=TRUE;CN="Don Gri
 ner":https://www.southeastwheelsevents.com/profile/DonGriner
ATTENDEE;ROLE=REQ-PARTICIPANT;PARTSTAT=TENTATIVE;RSVP=TRUE;CN="John H.
  Price":https://www.southeastwheelsevents.com/profile/JohnHPrice
END:VEVENT
END:VCALENDAR
