BEGIN:VCALENDAR
PRODID:NingEventWidget-v1
VERSION:2.0
METHOD:PUBLISH
BEGIN:VTIMEZONE
TZID:Pacific/Midway
X-LIC-LOCATION:Pacific/Midway
BEGIN:STANDARD
TZOFFSETFROM:-1100
TZOFFSETTO:-1100
TZNAME:SST
DTSTART:19700101T000000
END:STANDARD
END:VTIMEZONE
BEGIN:VEVENT
UID:5072275:Event:459453
DTSTAMP:20260424T084116Z
SUMMARY:Steam Car Challenge Mini-Bike Raffle
DESCRIPTION:Raising money for the Steam Car Challenge. Be a part of au
 tomotive history and help get the land speed record for steam powered 
 cars back to the USA where it belongs.\nTake a change to win this mini
 -bike  and buy a ticket for $1.00 or 6 tickets for $5.00.\nThis sport
 y little bike has 72cc 4 stroke engine and automatic clutch. Runs on r
 egular gas. It's brand new!\nThe Steam Car Challenge needs your help a
 nd your support.\nThe drawing is Sunday, Dec. 17th, 2011 at the Horse 
 Power Breakfast in Shorty Howell Park in Duluth across from the Wal-Ma
 rt on Pleasant Hill Road.\nThe Drawing will be posted on this web site
 - You do not need to be present to win!\nI will deliver the mini-bike 
 to the winner as late as Dec. 23,2011.\nThe winner will be contacted b
 y telephone!\n\nFor more information visit https://www.southeastwheels
 events.com/events/steam-car-challenge-mini-bike-raffle
DTSTART;TZID=Pacific/Midway:20111125T070000
DTEND;TZID=Pacific/Midway:20111217T110000
CATEGORIES:fund, raiser
LOCATION:Horse Power Breakfast SHorty Howell Park
WEBSITE:http://SouthEastWheelEvents.com
URL:http://SouthEastWheelEvents.com
CONTACT:678-873-9412
ORGANIZER;CN="Bob Sarda":https://www.southeastwheelsevents.com/profile
 /BobSarda
ATTACH;FMTTYPE="image/jpeg":http://storage.ning.com/topology/rest/1.0/
 file/get/967604869?profile=original
ATTENDEE;ROLE=REQ-PARTICIPANT;PARTSTAT=ACCEPTED;RSVP=TRUE;CN="Bob Sard
 a":https://www.southeastwheelsevents.com/profile/BobSarda
END:VEVENT
END:VCALENDAR
