BEGIN:VCALENDAR
PRODID:NingEventWidget-v1
VERSION:2.0
METHOD:PUBLISH
BEGIN:VTIMEZONE
TZID:Pacific/Midway
X-LIC-LOCATION:Pacific/Midway
BEGIN:STANDARD
TZOFFSETFROM:-1100
TZOFFSETTO:-1100
TZNAME:SST
DTSTART:19700101T000000
END:STANDARD
END:VTIMEZONE
BEGIN:VEVENT
UID:5072275:Event:1099341
DTSTAMP:20260420T054631Z
SUMMARY:Steele Rubber Car Show - Denver, Nc
DESCRIPTION:Steele Rubber Car Show and  Open House.\n\nFor more infor
 mation visit https://www.southeastwheelsevents.com/events/steele-rubbe
 r-car-show-denver-nc
DTSTART;TZID=Pacific/Midway:20180922T090000
DTEND;TZID=Pacific/Midway:20180922T140000
CATEGORIES:car, show, cruise, in
LOCATION:Denver, Nc
WEBSITE:
URL:
CONTACT:(800) 352-0068
ORGANIZER:
ATTACH;FMTTYPE="image/jpeg":http://storage.ning.com/topology/rest/1.0/
 file/get/967792100?profile=original
ATTENDEE;ROLE=REQ-PARTICIPANT;PARTSTAT=ACCEPTED;RSVP=TRUE;CN="Anthony 
 Hopkins":https://www.southeastwheelsevents.com/profile/AnthonyHopkins
END:VEVENT
END:VCALENDAR
