BEGIN:VCALENDAR
PRODID:NingEventWidget-v1
VERSION:2.0
METHOD:PUBLISH
BEGIN:VTIMEZONE
TZID:Pacific/Midway
X-LIC-LOCATION:Pacific/Midway
BEGIN:STANDARD
TZOFFSETFROM:-1100
TZOFFSETTO:-1100
TZNAME:SST
DTSTART:19700101T000000
END:STANDARD
END:VTIMEZONE
BEGIN:VEVENT
UID:5072275:Event:1110147
DTSTAMP:20260422T221927Z
SUMMARY:Stevenson Burning Van VW - Stevenson, AL
DESCRIPTION:Stevenson Burning Van VW Campout at City Park.\n\nFor more
  information visit https://www.southeastwheelsevents.com/events/steven
 son-burning-van-vw-stevenson-al
DTSTART;TZID=Pacific/Midway:20201106T000000
DTEND;TZID=Pacific/Midway:20201106T235900
CATEGORIES:city, park
LOCATION:City Park
WEBSITE:
URL:
CONTACT:(423) 718-7911
ORGANIZER:Ted Jones
ATTACH;FMTTYPE="image/jpeg":http://storage.ning.com/topology/rest/1.0/
 file/get/967805703?profile=original
ATTENDEE;ROLE=REQ-PARTICIPANT;PARTSTAT=ACCEPTED;RSVP=TRUE;CN="Anthony 
 Hopkins":https://www.southeastwheelsevents.com/profile/AnthonyHopkins
END:VEVENT
END:VCALENDAR
