BEGIN:VCALENDAR
PRODID:NingEventWidget-v1
VERSION:2.0
METHOD:PUBLISH
BEGIN:VTIMEZONE
TZID:Pacific/Midway
X-LIC-LOCATION:Pacific/Midway
BEGIN:STANDARD
TZOFFSETFROM:-1100
TZOFFSETTO:-1100
TZNAME:SST
DTSTART:19700101T000000
END:STANDARD
END:VTIMEZONE
BEGIN:VEVENT
UID:5072275:Event:176256
DTSTAMP:20260422T032252Z
SUMMARY:Stivers Ford Celebrates Ford Mustangs 47th. Birthday in Montgo
 mery, Al.
DESCRIPTION:Come show your favorite Mustang as we celebrate the Mustan
 ags 47th. Birethday. This historic event will be sponsored by Stivers 
 Ford of Montgomery, Al. and hosted by River Region Mustangs.  Birthda
 y Cake will be served as we look back at our favorite Mustang vehicles
 .\n\nFor more information visit https://www.southeastwheelsevents.com/
 events/stivers-ford-celebrates-ford
DTSTART;TZID=Pacific/Midway:20110416T100000
DTEND;TZID=Pacific/Midway:20110416T140000
CATEGORIES:47, th, "ford.mustang", birthday, celebration
LOCATION:Stivers Ford
WEBSITE:http://www.freewebs.com/riverregionmc/
URL:http://www.freewebs.com/riverregionmc/
CONTACT:334-272-2340
ORGANIZER;CN="Ted Wright":https://www.southeastwheelsevents.com/profil
 e/TedWright
ATTACH;FMTTYPE="image/jpeg":http://storage.ning.com/topology/rest/1.0/
 file/get/967591547?profile=original
ATTENDEE;ROLE=REQ-PARTICIPANT;PARTSTAT=ACCEPTED;RSVP=TRUE;CN="Ted Wrig
 ht":https://www.southeastwheelsevents.com/profile/TedWright
END:VEVENT
END:VCALENDAR
