BEGIN:VCALENDAR
PRODID:NingEventWidget-v1
VERSION:2.0
METHOD:PUBLISH
BEGIN:VTIMEZONE
TZID:Pacific/Midway
X-LIC-LOCATION:Pacific/Midway
BEGIN:STANDARD
TZOFFSETFROM:-1100
TZOFFSETTO:-1100
TZNAME:SST
DTSTART:19700101T000000
END:STANDARD
END:VTIMEZONE
BEGIN:VEVENT
UID:5072275:Event:553926
DTSTAMP:20260420T002617Z
SUMMARY:Stocking Full of Love Labor Day Car Show & Swap Meet -Rock Spr
 ings, GA
DESCRIPTION:Annual Stocking Full of Love Labor Day Car Show & Swap Mee
 t -Rock Springs, GA Keep Christ in Christmas!\n\nFor more information 
 visit https://www.southeastwheelsevents.com/events/stocking-full-of-lo
 ve-labor-day-car-show-swap-meet-rock-springs
DTSTART;TZID=Pacific/Midway:20170904T080000
DTEND;TZID=Pacific/Midway:20170904T160000
CATEGORIES:car-show, swap-meet
LOCATION:Walker County Civic Center
WEBSITE:
URL:
CONTACT:706-638-1909 x276
ORGANIZER:Stocking Full of Love
ATTACH;FMTTYPE="image/jpeg":http://storage.ning.com/topology/rest/1.0/
 file/get/967623682?profile=original
ATTENDEE;ROLE=REQ-PARTICIPANT;PARTSTAT=ACCEPTED;RSVP=TRUE;CN="Jack Tho
 mas":https://www.southeastwheelsevents.com/profile/JackThomas
END:VEVENT
END:VCALENDAR
