BEGIN:VCALENDAR
PRODID:NingEventWidget-v1
VERSION:2.0
METHOD:PUBLISH
BEGIN:VTIMEZONE
TZID:Pacific/Midway
X-LIC-LOCATION:Pacific/Midway
BEGIN:STANDARD
TZOFFSETFROM:-1100
TZOFFSETTO:-1100
TZNAME:SST
DTSTART:19700101T000000
END:STANDARD
END:VTIMEZONE
BEGIN:VEVENT
UID:5072275:Event:600523
DTSTAMP:20260419T050953Z
SUMMARY:Stone Mountain Christmas Parade and Fireworks
DESCRIPTION:The annual Stone Mountain Village Christmas Parade and Fir
 eworks is a fun, family event held the evening after Thanksgiving in t
 he Historic Village of Stone Mountain, GA.\n\n-Festivities from 4:00 â
 €“ 8:00pm on Friday, November 23rd, 2012\n-Parade starts at 6:00pm\n-F
 ireworks 7:30pm\n\nBag-pipers, the amphibious duck from Stone Mountain
  Park, classic cars and motorcycles, marching dancers and elves, merch
 ant cars and floats, choir music, the Conundrums Womenâ€™s Drumming gr
 oup and more. Pony rides, marshmallow roasting and a letter writing st
 ation for letters to Santa will be available from 4:00pm to 8:00pm. Sa
 ntaâ€™s arrival in the parade and the lighting of the tree are highlig
 hts before the fireworks extravaganza at 7:30pm.\n\nFor more informati
 on visit https://www.southeastwheelsevents.com/events/stone-mountain-c
 hristmas-parade-and-fireworks
DTSTART;TZID=Pacific/Midway:20121123T180000
DTEND;TZID=Pacific/Midway:20121123T190000
CATEGORIES:parade
LOCATION:Village of Stone Mountain
WEBSITE:http://stonemountainvillage.com/
URL:http://stonemountainvillage.com/
CONTACT:770-413-0607
ORGANIZER:Susan Ryles
ATTACH;FMTTYPE="image/jpeg":
ATTENDEE;ROLE=REQ-PARTICIPANT;PARTSTAT=ACCEPTED;RSVP=TRUE;CN="Joel Q":
 https://www.southeastwheelsevents.com/profile/JoelQuartarone
END:VEVENT
END:VCALENDAR
