BEGIN:VCALENDAR
PRODID:NingEventWidget-v1
VERSION:2.0
METHOD:PUBLISH
BEGIN:VTIMEZONE
TZID:Pacific/Midway
X-LIC-LOCATION:Pacific/Midway
BEGIN:STANDARD
TZOFFSETFROM:-1100
TZOFFSETTO:-1100
TZNAME:SST
DTSTART:19700101T000000
END:STANDARD
END:VTIMEZONE
BEGIN:VEVENT
UID:5072275:Event:1227454
DTSTAMP:20260420T001241Z
SUMMARY:Stone Mountain Village Cruise-in, Stone Mountain, GA DELAYED!
DESCRIPTION:Due to the high chance of Thunderstorms during show time, 
 we have dealyed this event until NEXT SATURDAY, August 28th.\nJoin the
  Georgia Cool Cruisers and the Village Cruisers for our monthly, every
  3rd Saturday Cruise-in!\nWe are in a larger location at the Stone Mou
 ntain First United Methodist Church's parking lot, right off Main Stre
 et!\nBest and Top 10 Popular Choice Awards, plus several special award
 s, food vendors, music and door prizes. Entry fee is only $10!\n\nFor 
 more information visit https://www.southeastwheelsevents.com/events/st
 one-mountain-village-cruise-in-stone-mountain-ga-3
DTSTART;TZID=Pacific/Midway:20210821T160000
DTEND;TZID=Pacific/Midway:20210821T190000
CATEGORIES:cruise-in
LOCATION:Stone Mountain First United Methodist Church
WEBSITE:http://www.GeorgiaCoolCruisers.org
URL:http://www.GeorgiaCoolCruisers.org
CONTACT:404-732-6842
ORGANIZER;CN="Rick Ellis":https://www.southeastwheelsevents.com/profil
 e/RickEllis
ATTACH;FMTTYPE="image/jpeg":https://storage.ning.com/topology/rest/1.0
 /file/get/9347896692?profile=original
ATTENDEE;ROLE=REQ-PARTICIPANT;PARTSTAT=ACCEPTED;RSVP=TRUE;CN="Rick Ell
 is":https://www.southeastwheelsevents.com/profile/RickEllis
END:VEVENT
END:VCALENDAR
