BEGIN:VCALENDAR
PRODID:NingEventWidget-v1
VERSION:2.0
METHOD:PUBLISH
BEGIN:VTIMEZONE
TZID:Pacific/Midway
X-LIC-LOCATION:Pacific/Midway
BEGIN:STANDARD
TZOFFSETFROM:-1100
TZOFFSETTO:-1100
TZNAME:SST
DTSTART:19700101T000000
END:STANDARD
END:VTIMEZONE
BEGIN:VEVENT
UID:5072275:Event:1180286
DTSTAMP:20260424T012452Z
SUMMARY:STRATFORD PRIDE - IRON RIDES CAR SHOW
DESCRIPTION:\n\nFor more information visit https://www.southeastwheels
 events.com/events/stratford-pride-iron-rides-car-show
DTSTART;TZID=Pacific/Midway:20191116T100000
DTEND;TZID=Pacific/Midway:20191116T140000
CATEGORIES:open, car, show
LOCATION:STRATFORD H.S.
WEBSITE:
URL:
CONTACT:843-412-2992
ORGANIZER:Donna Staller
ATTACH;FMTTYPE="image/jpeg":
ATTENDEE;ROLE=REQ-PARTICIPANT;PARTSTAT=TENTATIVE;RSVP=TRUE;CN="Jeffrey
  Rutherford":https://www.southeastwheelsevents.com/profile/JeffreyRuth
 erford866
END:VEVENT
END:VCALENDAR
