BEGIN:VCALENDAR
PRODID:NingEventWidget-v1
VERSION:2.0
METHOD:PUBLISH
BEGIN:VTIMEZONE
TZID:Pacific/Midway
X-LIC-LOCATION:Pacific/Midway
BEGIN:STANDARD
TZOFFSETFROM:-1100
TZOFFSETTO:-1100
TZNAME:SST
DTSTART:19700101T000000
END:STANDARD
END:VTIMEZONE
BEGIN:VEVENT
UID:5072275:Event:778992
DTSTAMP:20260422T074157Z
SUMMARY:Strawberry Festival Car & Tractor Show -Cullman City, AL
DESCRIPTION:StrwberryFest\nMay 2-3\nCar Show on the 2nd  Two day fest
 ival filled with music, great food, arts and crafts, classic car show!
   StrawberryFest on Facebook! \n\nFor more information visit https://w
 ww.southeastwheelsevents.com/events/strawberry-festival-car-tractor-sh
 ow-cullman-city-al
DTSTART;TZID=Pacific/Midway:20150502T090000
DTEND;TZID=Pacific/Midway:20150502T150000
CATEGORIES:car-show, festival
LOCATION:Depot Park
WEBSITE:http://www.CullmanCity.org
URL:http://www.CullmanCity.org
CONTACT:256-739-1258
ORGANIZER:Cullman City
ATTACH;FMTTYPE="image/jpeg":http://storage.ning.com/topology/rest/1.0/
 file/get/967660638?profile=original
ATTENDEE;ROLE=REQ-PARTICIPANT;PARTSTAT=ACCEPTED;RSVP=TRUE;CN="Chuck Aa
 ron":https://www.southeastwheelsevents.com/profile/ChuckAaron
END:VEVENT
END:VCALENDAR
