BEGIN:VCALENDAR
PRODID:NingEventWidget-v1
VERSION:2.0
METHOD:PUBLISH
BEGIN:VTIMEZONE
TZID:Pacific/Midway
X-LIC-LOCATION:Pacific/Midway
BEGIN:STANDARD
TZOFFSETFROM:-1100
TZOFFSETTO:-1100
TZNAME:SST
DTSTART:19700101T000000
END:STANDARD
END:VTIMEZONE
BEGIN:VEVENT
UID:5072275:Event:711983
DTSTAMP:20260423T180332Z
SUMMARY:Street Mentality Car Club Toys-For-Tots Auto Show -Kennesaw,GA
DESCRIPTION:Street Mentality Car Club  8th Annual Toys For Tots Auto 
 Show \r\nEntry fee is only new toys, their will be a metered sound co
 mp, raffle giveaway of all sort from speakers, hawks tickets, etc thei
 r will be large trophies given away for the club with the most toys, t
 he individual who donates the most toys and the largest crew with the 
 most vehicles.... Sound Competition Term Lab Spl Meter If you would li
 ke to enter the Sound Competition Bring $10.00 for Registration \n\nF
 or more information visit https://www.southeastwheelsevents.com/events
 /street-mentality-cc-8th-annual-toys-for-tots-autoshow
DTSTART;TZID=Pacific/Midway:20221106T110000
DTEND;TZID=Pacific/Midway:20221106T170000
CATEGORIES:charity, fundraiser
LOCATION:Andretti Karting
WEBSITE:
URL:
CONTACT:Chris 678-895-6660
ORGANIZER:
ATTACH;FMTTYPE="image/jpeg":http://storage.ning.com/topology/rest/1.0/
 file/get/967649555?profile=original
ATTENDEE;ROLE=REQ-PARTICIPANT;PARTSTAT=ACCEPTED;RSVP=TRUE;CN="Pro Logi
 c Entertainment":https://www.southeastwheelsevents.com/profile/ProLogi
 cEntertainment
END:VEVENT
END:VCALENDAR
