BEGIN:VCALENDAR
PRODID:NingEventWidget-v1
VERSION:2.0
METHOD:PUBLISH
BEGIN:VTIMEZONE
TZID:Pacific/Midway
X-LIC-LOCATION:Pacific/Midway
BEGIN:STANDARD
TZOFFSETFROM:-1100
TZOFFSETTO:-1100
TZNAME:SST
DTSTART:19700101T000000
END:STANDARD
END:VTIMEZONE
BEGIN:VEVENT
UID:5072275:Event:1056277
DTSTAMP:20260420T124321Z
SUMMARY:Streetside Classics Atlanta Cars & Coffee Cruise In
DESCRIPTION:Come join us the last Saturday of May for Great Cars, Coff
 ee and Breakfast! No admission fee required - All makes and models wel
 come. Over 350 Classic Cars & Truck to see!\n\nFor more information vi
 sit https://www.southeastwheelsevents.com/events/streetside-classics-a
 tlanta-cars-coffee-cruise-in-12
DTSTART;TZID=Pacific/Midway:20180127T090000
DTEND;TZID=Pacific/Midway:20180127T120000
CATEGORIES:cruise, in
LOCATION:Streetside Classics Atlanta Showroom
WEBSITE:http://streetsideclassics.com/
URL:http://streetsideclassics.com/
CONTACT:6782791609
ORGANIZER:Streetside Classics
ATTACH;FMTTYPE="image/jpeg":http://storage.ning.com/topology/rest/1.0/
 file/get/967746143?profile=original
ATTENDEE;ROLE=REQ-PARTICIPANT;PARTSTAT=ACCEPTED;RSVP=TRUE;CN="Lee Gosn
 ey":https://www.southeastwheelsevents.com/profile/LeeGosney
END:VEVENT
END:VCALENDAR
