BEGIN:VCALENDAR
PRODID:NingEventWidget-v1
VERSION:2.0
METHOD:PUBLISH
BEGIN:VTIMEZONE
TZID:Pacific/Midway
X-LIC-LOCATION:Pacific/Midway
BEGIN:STANDARD
TZOFFSETFROM:-1100
TZOFFSETTO:-1100
TZNAME:SST
DTSTART:19700101T000000
END:STANDARD
END:VTIMEZONE
BEGIN:VEVENT
UID:5072275:Event:1059129
DTSTAMP:20260420T124322Z
SUMMARY:Streetside Classics Atlanta Cars & Coffee Cruise In
DESCRIPTION:Come join us Saturday July 29th for Cars & Coffee from 9 a
 m to Noon. All vehicles welcome plus another 300 Classic Rides inside!
  Free coffee and breakfast treats - bring your ride & your family and 
 friends out for a fun morning!\n\nFor more information visit https://w
 ww.southeastwheelsevents.com/events/streetside-classics-atlanta-cars-c
 offee-cruise-in-14
DTSTART;TZID=Pacific/Midway:20170729T090000
DTEND;TZID=Pacific/Midway:20170729T120000
CATEGORIES:cruise, in
LOCATION:Streetside Classics Atlanta Showroom
WEBSITE:https://www.streetsideclassics.com/
URL:https://www.streetsideclassics.com/
CONTACT:6782791609
ORGANIZER;CN="Denise/Streetside Classics":https://www.southeastwheelse
 vents.com/profile/DeniseStreetsideClassics
ATTACH;FMTTYPE="image/jpeg":
ATTENDEE;ROLE=REQ-PARTICIPANT;PARTSTAT=ACCEPTED;RSVP=TRUE;CN="Denise/S
 treetside Classics":https://www.southeastwheelsevents.com/profile/Deni
 seStreetsideClassics
END:VEVENT
END:VCALENDAR
