BEGIN:VCALENDAR
PRODID:NingEventWidget-v1
VERSION:2.0
METHOD:PUBLISH
BEGIN:VTIMEZONE
TZID:Pacific/Midway
X-LIC-LOCATION:Pacific/Midway
BEGIN:STANDARD
TZOFFSETFROM:-1100
TZOFFSETTO:-1100
TZNAME:SST
DTSTART:19700101T000000
END:STANDARD
END:VTIMEZONE
BEGIN:VEVENT
UID:5072275:Event:1032822
DTSTAMP:20260420T161506Z
SUMMARY:Streetside Classics Atlanta Cars & Coffee Cruise In
DESCRIPTION:Join us for some great cars and coffee along with other tr
 eats!!\n\nFor more information visit https://www.southeastwheelsevents
 .com/events/streetside-classics-atlanta-cars-coffee-cruise-in-3
DTSTART;TZID=Pacific/Midway:20170225T090000
DTEND;TZID=Pacific/Midway:20170225T120000
CATEGORIES:cruise, in
LOCATION:Streetside Classics Atlanta Showroom
WEBSITE:http://streetsideclassics.com/
URL:http://streetsideclassics.com/
CONTACT:6782791609
ORGANIZER;CN="Denise/Streetside Classics":https://www.southeastwheelse
 vents.com/profile/DeniseStreetsideClassics
ATTACH;FMTTYPE="image/jpeg":http://storage.ning.com/topology/rest/1.0/
 file/get/967734522?profile=original
ATTENDEE;ROLE=REQ-PARTICIPANT;PARTSTAT=ACCEPTED;RSVP=TRUE;CN="Denise/S
 treetside Classics":https://www.southeastwheelsevents.com/profile/Deni
 seStreetsideClassics
END:VEVENT
END:VCALENDAR
