BEGIN:VCALENDAR
PRODID:NingEventWidget-v1
VERSION:2.0
METHOD:PUBLISH
BEGIN:VTIMEZONE
TZID:Pacific/Midway
X-LIC-LOCATION:Pacific/Midway
BEGIN:STANDARD
TZOFFSETFROM:-1100
TZOFFSETTO:-1100
TZNAME:SST
DTSTART:19700101T000000
END:STANDARD
END:VTIMEZONE
BEGIN:VEVENT
UID:5072275:Event:815329
DTSTAMP:20260423T023204Z
SUMMARY:Studebaker's Drivers Club Annual Picnic -Winder, GA
DESCRIPTION:North Georgia Chapter of the Studebaker's Drivers Club Ann
 ual Picnic - Winder, GA\r\nFort Yargo State Park, all Studebaker owne
 rs WELCOME! RSVP Please.\r\n\n\nFor more information visit https://www
 .southeastwheelsevents.com/events/studebaker-s-drivers-club-annual-pic
 nic-winder-ga
DTSTART;TZID=Pacific/Midway:20170805T140000
DTEND;TZID=Pacific/Midway:20170805T180000
CATEGORIES:car-show, meeting
LOCATION:Fort Yargo State Park
WEBSITE:
URL:
CONTACT:Charleen 770-867-7186, 770-867-2060
ORGANIZER:Studebaker's Drivers Club
ATTACH;FMTTYPE="image/jpeg":http://storage.ning.com/topology/rest/1.0/
 file/get/967627525?profile=original
ATTENDEE;ROLE=REQ-PARTICIPANT;PARTSTAT=ACCEPTED;RSVP=TRUE;CN="Chuck Aa
 ron":https://www.southeastwheelsevents.com/profile/ChuckAaron
END:VEVENT
END:VCALENDAR
