BEGIN:VCALENDAR
PRODID:NingEventWidget-v1
VERSION:2.0
METHOD:PUBLISH
BEGIN:VTIMEZONE
TZID:Pacific/Midway
X-LIC-LOCATION:Pacific/Midway
BEGIN:STANDARD
TZOFFSETFROM:-1100
TZOFFSETTO:-1100
TZNAME:SST
DTSTART:19700101T000000
END:STANDARD
END:VTIMEZONE
BEGIN:VEVENT
UID:5072275:Event:1059438
DTSTAMP:20260424T123329Z
SUMMARY:Sturgis Motorcycle Rally 2017 -Sturgis, SD
DESCRIPTION:The City of Sturgis welcomes all biker enthusiasts to be a
  part of the \"World Famous\" Sturgis Rally. Visitors can enjoy the be
 autiful Black Hills of South Dakota, as well as, bike shows, concerts 
 and racing events. You have to see this one of a kind party for yourse
 lf! Make the journey to the largest motorcycle rally in the world--STU
 RGIS!   The Sturgis Motorcycle Rally takes place throughout the city 
 of Sturgis, SD and the surrounding area with something going on all da
 y and all night for the entire week. Some of the hot spots with events
  going on our...   Iron Horse Saloon, Knuckle Saloon, Glencoe Camp Re
 sort (home of the world famous titty alley), Sturgis Buffalo Chip (kno
 w for some of the biggest name concerts), Loud American Concert and of
  course the Full Throttle Saloon - the World's Largest Biker Bar \n\n
 \nFor more information visit https://www.southeastwheelsevents.com/eve
 nts/sturgis-m-otorcycle-rally-2017-sturgis-sd
DTSTART;TZID=Pacific/Midway:20170804T000000
DTEND;TZID=Pacific/Midway:20170813T235900
CATEGORIES:motorcycle, bike, festival, show
LOCATION:Sturgis and the Surrounding Area
WEBSITE:http://sturgismotorcyclerally.com/
URL:http://sturgismotorcyclerally.com/
CONTACT:https://www.facebook.com/sturgisrally
ORGANIZER:Sturgis Motorcycle Rally
ATTACH;FMTTYPE="image/jpeg":http://storage.ning.com/topology/rest/1.0/
 file/get/967750209?profile=original
ATTENDEE;ROLE=REQ-PARTICIPANT;PARTSTAT=ACCEPTED;RSVP=TRUE;CN="Chuck Aa
 ron":https://www.southeastwheelsevents.com/profile/ChuckAaron886
END:VEVENT
END:VCALENDAR
