BEGIN:VCALENDAR
PRODID:NingEventWidget-v1
VERSION:2.0
METHOD:PUBLISH
BEGIN:VTIMEZONE
TZID:Pacific/Midway
X-LIC-LOCATION:Pacific/Midway
BEGIN:STANDARD
TZOFFSETFROM:-1100
TZOFFSETTO:-1100
TZNAME:SST
DTSTART:19700101T000000
END:STANDARD
END:VTIMEZONE
BEGIN:VEVENT
UID:5072275:Event:898543
DTSTAMP:20260419T135814Z
SUMMARY:Sugar Rush Car Show Sugar Hill GA
DESCRIPTION:Sugar Rush Car Show\nSaturday October 17, 2015\n11am to 4p
 m\nDowntown Sugar Hill GA\nHeld in conjunction with the Sugar Rush Fal
 l Festival\nSponsored by the City of Sugar Hill\nThis is THE event to 
 show your car off!!\n1000â€™s will be in attendance at this grand even
 t!\nLARGE TROPHIES!!\n2 Car Shows in 1 location, Classic Car Show and 
 VW Car Show. 2 sets of trophies 2 different judges, Kenny Stephens and
  Chris Ring\nClassic car show, all makes and models welcomed, current 
 year to Model Tâ€™s\nVW car show, both air cooled and water cooled VWâ
 €™s welcomed\n$20 car show contestant fee. Registration starts at 10am
  closes at 2pm, trophies at 4pm\nFun for the WHOLE family. Tons of stu
 ff to do!\nCarnival Rides for the kids and the kid in all of us!\nWorl
 dâ€™s Largest Ice Cream Party Challenge. We all scream for ice cream\n
 Vendors of all sorts. Lots to look at!\nArt Vendors and Art Competitio
 ns\nBake Off, enter your favorite recipe!\nConcert with Travis Tritt a
 t the Bowl later in the evening\nSo come out and be seen and have a ba
 ll!\nFor car show information\nSteve Soucie, phone number 770-967-2934
  or email at ssoucie1@charter.net\nFor festival information, Megan Car
 nell <MCarnell@cityofsugarhill.com>\nThe Sweetest Little Car Show in G
 eorgia\nf/CityofSugarHill\nTwitter @CityofSugarHill.com\nTheBowlatSuga
 rHill.com\n\nFor more information visit https://www.southeastwheelseve
 nts.com/events/sugar-rush-car-show-sugar-hill-ga
DTSTART;TZID=Pacific/Midway:20151017T110000
DTEND;TZID=Pacific/Midway:20151017T160000
CATEGORIES:car, show, and, festival
LOCATION:New City Hall
WEBSITE:http://TheBowlatSugarHill.com
URL:http://TheBowlatSugarHill.com
CONTACT:770-967-2934
ORGANIZER;CN="Steve Soucie":https://www.southeastwheelsevents.com/prof
 ile/SteveSoucie
ATTACH;FMTTYPE="image/jpeg":http://storage.ning.com/topology/rest/1.0/
 file/get/967692248?profile=original
ATTENDEE;ROLE=REQ-PARTICIPANT;PARTSTAT=ACCEPTED;RSVP=TRUE;CN="Michael 
 Thies":https://www.southeastwheelsevents.com/profile/MichaelThies
ATTENDEE;ROLE=REQ-PARTICIPANT;PARTSTAT=ACCEPTED;RSVP=TRUE;CN="Rodney W
 allin":https://www.southeastwheelsevents.com/profile/Rodneywallin
ATTENDEE;ROLE=REQ-PARTICIPANT;PARTSTAT=ACCEPTED;RSVP=TRUE;CN="Billy He
 ndrix":https://www.southeastwheelsevents.com/profile/BillyHendrix
ATTENDEE;ROLE=REQ-PARTICIPANT;PARTSTAT=ACCEPTED;RSVP=TRUE;CN="Ed Mashb
 urn":https://www.southeastwheelsevents.com/profile/EdMashburn
ATTENDEE;ROLE=REQ-PARTICIPANT;PARTSTAT=ACCEPTED;RSVP=TRUE;CN="Keith Wi
 lliamson":https://www.southeastwheelsevents.com/profile/KeithWilliamso
 n
ATTENDEE;ROLE=REQ-PARTICIPANT;PARTSTAT=ACCEPTED;RSVP=TRUE;CN="Steve So
 ucie":https://www.southeastwheelsevents.com/profile/SteveSoucie
ATTENDEE;ROLE=REQ-PARTICIPANT;PARTSTAT=TENTATIVE;RSVP=TRUE;CN="Dale Ni
 cholson":https://www.southeastwheelsevents.com/profile/DaleNicholson
ATTENDEE;ROLE=REQ-PARTICIPANT;PARTSTAT=TENTATIVE;RSVP=TRUE;CN="Bill mu
 sarra":https://www.southeastwheelsevents.com/profile/billmusarra
END:VEVENT
END:VCALENDAR
