BEGIN:VCALENDAR
PRODID:NingEventWidget-v1
VERSION:2.0
METHOD:PUBLISH
BEGIN:VTIMEZONE
TZID:Pacific/Midway
X-LIC-LOCATION:Pacific/Midway
BEGIN:STANDARD
TZOFFSETFROM:-1100
TZOFFSETTO:-1100
TZNAME:SST
DTSTART:19700101T000000
END:STANDARD
END:VTIMEZONE
BEGIN:VEVENT
UID:5072275:Event:859780
DTSTAMP:20260423T171320Z
SUMMARY:Summer Volksfest -Jacksonville, FL
DESCRIPTION:Indoor VW Car Show and Swap meet held at The Jacksonville 
 Fairgrounds. This event is one of the only 2 indoor events on the East
  Coast! Open to all models air and watercooled. Product demos, Tech se
 ssions and more to be held throughout the day. Pre-registration for ve
 ndor and show cars are required. Hours 10am-4pm. $10 admission (12 & u
 nder Free). See website for all the details on show and vendor info. E
 vent information at www.kandlmotorsports.com or call 919-616-2183 /919
 -616-1039\n\nFor more information visit https://www.southeastwheelseve
 nts.com/events/summer-volksfest-2-jacksonville-fl
DTSTART;TZID=Pacific/Midway:20170624T100000
DTEND;TZID=Pacific/Midway:20170624T160000
CATEGORIES:volkswagen, car, show, swap, meet, drag, racing
LOCATION:Jacksonville Fairgrounds; Jacksonville, FL
WEBSITE:http://www.kandlmotorsports.com/summervolksfest/summervolksfes
 t.htm
URL:http://www.kandlmotorsports.com/summervolksfest/summervolksfest.ht
 m
CONTACT:919-616-2183
ORGANIZER;CN="Kathy Jacobs":https://www.southeastwheelsevents.com/prof
 ile/KathyJaocbs
ATTACH;FMTTYPE="image/jpeg":http://storage.ning.com/topology/rest/1.0/
 file/get/967679887?profile=original
ATTENDEE;ROLE=REQ-PARTICIPANT;PARTSTAT=ACCEPTED;RSVP=TRUE;CN="Kathy Ja
 cobs":https://www.southeastwheelsevents.com/profile/KathyJaocbs
END:VEVENT
END:VCALENDAR
